BEGIN:VCALENDAR
VERSION:2.0
PRODID:-//La Immaculada Concepcion School - ECPv6.15.12.1//NONSGML v1.0//EN
CALSCALE:GREGORIAN
METHOD:PUBLISH
X-ORIGINAL-URL:https://lics.edu.ph
X-WR-CALDESC:Events for La Immaculada Concepcion School
REFRESH-INTERVAL;VALUE=DURATION:PT1H
X-Robots-Tag:noindex
X-PUBLISHED-TTL:PT1H
BEGIN:VTIMEZONE
TZID:Asia/Manila
BEGIN:STANDARD
TZOFFSETFROM:+0800
TZOFFSETTO:+0800
TZNAME:PST
DTSTART:20210101T000000
END:STANDARD
END:VTIMEZONE
BEGIN:VEVENT
DTSTART;VALUE=DATE:20220905
DTEND;VALUE=DATE:20220906
DTSTAMP:20260426T121142
CREATED:20220809T093455Z
LAST-MODIFIED:20220809T093518Z
UID:10000153-1662336000-1662422399@lics.edu.ph
SUMMARY:Start of Blended Learning Classes
DESCRIPTION:
URL:https://lics.edu.ph/event/start-of-blended-learning-classes/
CATEGORIES:School-wide
END:VEVENT
BEGIN:VEVENT
DTSTART;VALUE=DATE:20220912
DTEND;VALUE=DATE:20220913
DTSTAMP:20260426T121142
CREATED:20220629T221223Z
LAST-MODIFIED:20220629T221410Z
UID:10000111-1662940800-1663027199@lics.edu.ph
SUMMARY:Nomination of Class Officers
DESCRIPTION:
URL:https://lics.edu.ph/event/nomination-of-class-officers/
CATEGORIES:High School,Middle,Primary
END:VEVENT
BEGIN:VEVENT
DTSTART;VALUE=DATE:20220914
DTEND;VALUE=DATE:20220915
DTSTAMP:20260426T121142
CREATED:20220629T221258Z
LAST-MODIFIED:20220629T221343Z
UID:10000112-1663113600-1663199999@lics.edu.ph
SUMMARY:Miting de Avance
DESCRIPTION:
URL:https://lics.edu.ph/event/miting-de-avance/
CATEGORIES:High School,Middle,Primary
END:VEVENT
BEGIN:VEVENT
DTSTART;VALUE=DATE:20220915
DTEND;VALUE=DATE:20220916
DTSTAMP:20260426T121142
CREATED:20220629T221552Z
LAST-MODIFIED:20220629T221552Z
UID:10000113-1663200000-1663286399@lics.edu.ph
SUMMARY:Election of Class Officers
DESCRIPTION:
URL:https://lics.edu.ph/event/election-of-class-officers/
CATEGORIES:High School,Middle,Primary
END:VEVENT
BEGIN:VEVENT
DTSTART;VALUE=DATE:20220916
DTEND;VALUE=DATE:20220917
DTSTAMP:20260426T121142
CREATED:20220629T221632Z
LAST-MODIFIED:20220629T230149Z
UID:10000114-1663286400-1663372799@lics.edu.ph
SUMMARY:Earthquake Drill
DESCRIPTION:
URL:https://lics.edu.ph/event/earthquake-drill/
CATEGORIES:School-wide
ATTACH;FMTTYPE=image/jpeg:https://lics.edu.ph/wp-content/uploads/2022/06/EARTH-QUAKE-DRILL-scaled.jpg
END:VEVENT
BEGIN:VEVENT
DTSTART;VALUE=DATE:20220921
DTEND;VALUE=DATE:20220924
DTSTAMP:20260426T121142
CREATED:20220629T221728Z
LAST-MODIFIED:20220630T084219Z
UID:10000115-1663718400-1663977599@lics.edu.ph
SUMMARY:First Unit Assessment
DESCRIPTION:
URL:https://lics.edu.ph/event/first-unit-assessment-ay-2022-2023/
CATEGORIES:School-wide
END:VEVENT
END:VCALENDAR