BEGIN:VCALENDAR
VERSION:2.0
PRODID:-//La Immaculada Concepcion School - ECPv6.15.12.1//NONSGML v1.0//EN
CALSCALE:GREGORIAN
METHOD:PUBLISH
X-ORIGINAL-URL:https://lics.edu.ph
X-WR-CALDESC:Events for La Immaculada Concepcion School
REFRESH-INTERVAL;VALUE=DURATION:PT1H
X-Robots-Tag:noindex
X-PUBLISHED-TTL:PT1H
BEGIN:VTIMEZONE
TZID:Asia/Manila
BEGIN:STANDARD
TZOFFSETFROM:+0800
TZOFFSETTO:+0800
TZNAME:PST
DTSTART:20210101T000000
END:STANDARD
END:VTIMEZONE
BEGIN:VEVENT
DTSTART;VALUE=DATE:20221007
DTEND;VALUE=DATE:20221008
DTSTAMP:20260426T110441
CREATED:20220630T073324Z
LAST-MODIFIED:20220630T073324Z
UID:10000125-1665100800-1665187199@lics.edu.ph
SUMMARY:Oath Taking of Elected Class Officers
DESCRIPTION:
URL:https://lics.edu.ph/event/oath-taking-of-elected-class-officers/
CATEGORIES:School-wide
END:VEVENT
BEGIN:VEVENT
DTSTART;VALUE=DATE:20221017
DTEND;VALUE=DATE:20221022
DTSTAMP:20260426T110441
CREATED:20220630T072711Z
LAST-MODIFIED:20220630T072844Z
UID:10000123-1665964800-1666396799@lics.edu.ph
SUMMARY:United Nations Week
DESCRIPTION:
URL:https://lics.edu.ph/event/united-nations-week/
CATEGORIES:School-wide
END:VEVENT
BEGIN:VEVENT
DTSTART;VALUE=DATE:20221024
DTEND;VALUE=DATE:20221025
DTSTAMP:20260426T110441
CREATED:20220630T073110Z
LAST-MODIFIED:20220630T073110Z
UID:10000124-1666569600-1666655999@lics.edu.ph
SUMMARY:United Nation Day
DESCRIPTION:
URL:https://lics.edu.ph/event/united-nation-day/
CATEGORIES:School-wide
END:VEVENT
BEGIN:VEVENT
DTSTART;VALUE=DATE:20221026
DTEND;VALUE=DATE:20221029
DTSTAMP:20260426T110441
CREATED:20220630T082448Z
LAST-MODIFIED:20220630T084403Z
UID:10000126-1666742400-1667001599@lics.edu.ph
SUMMARY:First Quarter Test
DESCRIPTION:
URL:https://lics.edu.ph/event/first-quarter-test-ay-2022-2023/
CATEGORIES:School-wide
END:VEVENT
BEGIN:VEVENT
DTSTART;VALUE=DATE:20221028
DTEND;VALUE=DATE:20221029
DTSTAMP:20260426T110441
CREATED:20220630T082711Z
LAST-MODIFIED:20220630T082711Z
UID:10000127-1666915200-1667001599@lics.edu.ph
SUMMARY:Living Rosary
DESCRIPTION:
URL:https://lics.edu.ph/event/living-rosary/
CATEGORIES:School-wide
END:VEVENT
BEGIN:VEVENT
DTSTART;VALUE=DATE:20221031
DTEND;VALUE=DATE:20221101
DTSTAMP:20260426T110441
CREATED:20220630T082815Z
LAST-MODIFIED:20220630T082815Z
UID:10000128-1667174400-1667260799@lics.edu.ph
SUMMARY:Start of the Semestral Break
DESCRIPTION:
URL:https://lics.edu.ph/event/start-of-the-semestral-break/
CATEGORIES:School-wide
END:VEVENT
END:VCALENDAR