BEGIN:VCALENDAR
VERSION:2.0
PRODID:-//La Immaculada Concepcion School - ECPv6.15.12.1//NONSGML v1.0//EN
CALSCALE:GREGORIAN
METHOD:PUBLISH
X-WR-CALNAME:La Immaculada Concepcion School
X-ORIGINAL-URL:https://lics.edu.ph
X-WR-CALDESC:Events for La Immaculada Concepcion School
REFRESH-INTERVAL;VALUE=DURATION:PT1H
X-Robots-Tag:noindex
X-PUBLISHED-TTL:PT1H
BEGIN:VTIMEZONE
TZID:Asia/Manila
BEGIN:STANDARD
TZOFFSETFROM:+0800
TZOFFSETTO:+0800
TZNAME:PST
DTSTART:20210101T000000
END:STANDARD
END:VTIMEZONE
BEGIN:VEVENT
DTSTART;VALUE=DATE:20221107
DTEND;VALUE=DATE:20221108
DTSTAMP:20260426T110430
CREATED:20220630T083422Z
LAST-MODIFIED:20220630T083422Z
UID:10000131-1667779200-1667865599@lics.edu.ph
SUMMARY:Semestral Break AY 2022-2023: Classes Resume
DESCRIPTION:
URL:https://lics.edu.ph/event/semestral-break-ay-2022-2023-classes-resume/
CATEGORIES:School-wide
END:VEVENT
END:VCALENDAR