BEGIN:VCALENDAR
VERSION:2.0
PRODID:-//La Immaculada Concepcion School - ECPv6.15.12.1//NONSGML v1.0//EN
CALSCALE:GREGORIAN
METHOD:PUBLISH
X-ORIGINAL-URL:https://lics.edu.ph
X-WR-CALDESC:Events for La Immaculada Concepcion School
REFRESH-INTERVAL;VALUE=DURATION:PT1H
X-Robots-Tag:noindex
X-PUBLISHED-TTL:PT1H
BEGIN:VTIMEZONE
TZID:Asia/Manila
BEGIN:STANDARD
TZOFFSETFROM:+0800
TZOFFSETTO:+0800
TZNAME:PST
DTSTART:20210101T000000
END:STANDARD
END:VTIMEZONE
BEGIN:VEVENT
DTSTART;VALUE=DATE:20221121
DTEND;VALUE=DATE:20221126
DTSTAMP:20260426T110848
CREATED:20220630T083628Z
LAST-MODIFIED:20220630T083628Z
UID:10000133-1668988800-1669420799@lics.edu.ph
SUMMARY:English Week
DESCRIPTION:
URL:https://lics.edu.ph/event/english-week/
CATEGORIES:School-wide
END:VEVENT
BEGIN:VEVENT
DTSTART;VALUE=DATE:20221121
DTEND;VALUE=DATE:20221126
DTSTAMP:20260426T110848
CREATED:20220630T083735Z
LAST-MODIFIED:20220630T083735Z
UID:10000134-1668988800-1669420799@lics.edu.ph
SUMMARY:AY 2022-2023: First PTC (Online)
DESCRIPTION:
URL:https://lics.edu.ph/event/ay-2022-2023-first-ptc-online/
CATEGORIES:School-wide
END:VEVENT
END:VCALENDAR