BEGIN:VCALENDAR
VERSION:2.0
PRODID:-//La Immaculada Concepcion School - ECPv6.15.12.1//NONSGML v1.0//EN
CALSCALE:GREGORIAN
METHOD:PUBLISH
X-WR-CALNAME:La Immaculada Concepcion School
X-ORIGINAL-URL:https://lics.edu.ph
X-WR-CALDESC:Events for La Immaculada Concepcion School
REFRESH-INTERVAL;VALUE=DURATION:PT1H
X-Robots-Tag:noindex
X-PUBLISHED-TTL:PT1H
BEGIN:VTIMEZONE
TZID:Asia/Manila
BEGIN:STANDARD
TZOFFSETFROM:+0800
TZOFFSETTO:+0800
TZNAME:PST
DTSTART:20210101T000000
END:STANDARD
END:VTIMEZONE
BEGIN:VEVENT
DTSTART;TZID=Asia/Manila:20221205T080000
DTEND;TZID=Asia/Manila:20221205T220000
DTSTAMP:20260426T095632
CREATED:20221201T012928Z
LAST-MODIFIED:20221201T013335Z
UID:10000155-1670227200-1670277600@lics.edu.ph
SUMMARY:Confession of the Communicants
DESCRIPTION:The class advisers will be in-charge in maintaining order while the other communicants are waiting for their turn to have their Confessions.
URL:https://lics.edu.ph/event/confession-of-the-communicants/
CATEGORIES:Grade School
END:VEVENT
END:VCALENDAR