BEGIN:VCALENDAR
VERSION:2.0
PRODID:-//La Immaculada Concepcion School - ECPv6.15.12.1//NONSGML v1.0//EN
CALSCALE:GREGORIAN
METHOD:PUBLISH
X-ORIGINAL-URL:https://lics.edu.ph
X-WR-CALDESC:Events for La Immaculada Concepcion School
REFRESH-INTERVAL;VALUE=DURATION:PT1H
X-Robots-Tag:noindex
X-PUBLISHED-TTL:PT1H
BEGIN:VTIMEZONE
TZID:Asia/Manila
BEGIN:STANDARD
TZOFFSETFROM:+0800
TZOFFSETTO:+0800
TZNAME:PST
DTSTART:20210101T000000
END:STANDARD
END:VTIMEZONE
BEGIN:VEVENT
DTSTART;TZID=Asia/Manila:20221209T080000
DTEND;TZID=Asia/Manila:20221209T103000
DTSTAMP:20260426T100101
CREATED:20220630T083937Z
LAST-MODIFIED:20221201T031914Z
UID:10000137-1670572800-1670581800@lics.edu.ph
SUMMARY:Christmas Songfest - Junior High
DESCRIPTION:Middle School: Christmas Galaw Fest \nJunior High: Christmas Songfest \nSenior High: Special Number
URL:https://lics.edu.ph/event/christmas-songfest-junior-high/
CATEGORIES:Junior High,Middle,Senior High
END:VEVENT
END:VCALENDAR