BEGIN:VCALENDAR
VERSION:2.0
PRODID:-//La Immaculada Concepcion School - ECPv6.15.12.1//NONSGML v1.0//EN
CALSCALE:GREGORIAN
METHOD:PUBLISH
X-ORIGINAL-URL:https://lics.edu.ph
X-WR-CALDESC:Events for La Immaculada Concepcion School
REFRESH-INTERVAL;VALUE=DURATION:PT1H
X-Robots-Tag:noindex
X-PUBLISHED-TTL:PT1H
BEGIN:VTIMEZONE
TZID:Asia/Manila
BEGIN:STANDARD
TZOFFSETFROM:+0800
TZOFFSETTO:+0800
TZNAME:PST
DTSTART:20210101T000000
END:STANDARD
END:VTIMEZONE
BEGIN:VEVENT
DTSTART;TZID=Asia/Manila:20221210T100000
DTEND;TZID=Asia/Manila:20221210T230000
DTSTAMP:20260426T100032
CREATED:20221201T013150Z
LAST-MODIFIED:20221201T013150Z
UID:10000156-1670666400-1670713200@lics.edu.ph
SUMMARY:First Communion - Parent's Orientation
DESCRIPTION:The Parent’s Orientation will be given by the catechists of Immaculate Conception Cathedral. The class advisers of the communicants will serve as usherettes. The parents will go directly to the venue and will be assisted by the teachers.
URL:https://lics.edu.ph/event/first-communion-parents-orientation/
LOCATION:Formation Center of the Immaculate Conception Cathedral
CATEGORIES:Grade School
END:VEVENT
END:VCALENDAR