BEGIN:VCALENDAR
VERSION:2.0
PRODID:-//La Immaculada Concepcion School - ECPv6.15.12.1//NONSGML v1.0//EN
CALSCALE:GREGORIAN
METHOD:PUBLISH
X-WR-CALNAME:La Immaculada Concepcion School
X-ORIGINAL-URL:https://lics.edu.ph
X-WR-CALDESC:Events for La Immaculada Concepcion School
REFRESH-INTERVAL;VALUE=DURATION:PT1H
X-Robots-Tag:noindex
X-PUBLISHED-TTL:PT1H
BEGIN:VTIMEZONE
TZID:Asia/Manila
BEGIN:STANDARD
TZOFFSETFROM:+0800
TZOFFSETTO:+0800
TZNAME:PST
DTSTART:20210101T000000
END:STANDARD
END:VTIMEZONE
BEGIN:VEVENT
DTSTART;VALUE=DATE:20221214
DTEND;VALUE=DATE:20221217
DTSTAMP:20260426T095725
CREATED:20220630T084108Z
LAST-MODIFIED:20220630T084127Z
UID:10000138-1670976000-1671235199@lics.edu.ph
SUMMARY:Second Unit Test
DESCRIPTION:
URL:https://lics.edu.ph/event/second-unit-test-ay-2022-2023/
CATEGORIES:School-wide
END:VEVENT
END:VCALENDAR