BEGIN:VCALENDAR
VERSION:2.0
PRODID:-//La Immaculada Concepcion School - ECPv6.15.12.1//NONSGML v1.0//EN
CALSCALE:GREGORIAN
METHOD:PUBLISH
X-WR-CALNAME:La Immaculada Concepcion School
X-ORIGINAL-URL:https://lics.edu.ph
X-WR-CALDESC:Events for La Immaculada Concepcion School
REFRESH-INTERVAL;VALUE=DURATION:PT1H
X-Robots-Tag:noindex
X-PUBLISHED-TTL:PT1H
BEGIN:VTIMEZONE
TZID:Asia/Manila
BEGIN:STANDARD
TZOFFSETFROM:+0800
TZOFFSETTO:+0800
TZNAME:PST
DTSTART:20220101T000000
END:STANDARD
END:VTIMEZONE
BEGIN:VEVENT
DTSTART;VALUE=DATE:20230103
DTEND;VALUE=DATE:20230104
DTSTAMP:20260426T085018
CREATED:20220629T223150Z
LAST-MODIFIED:20220630T084633Z
UID:10000118-1672704000-1672790399@lics.edu.ph
SUMMARY:Christmas Break AY 2022-2023: Classes Resume
DESCRIPTION:
URL:https://lics.edu.ph/event/classes-resume-jan-3-2023/
CATEGORIES:School-wide
END:VEVENT
END:VCALENDAR