BEGIN:VCALENDAR
VERSION:2.0
PRODID:-//La Immaculada Concepcion School - ECPv6.15.12.1//NONSGML v1.0//EN
CALSCALE:GREGORIAN
METHOD:PUBLISH
X-WR-CALNAME:La Immaculada Concepcion School
X-ORIGINAL-URL:https://lics.edu.ph
X-WR-CALDESC:Events for La Immaculada Concepcion School
REFRESH-INTERVAL;VALUE=DURATION:PT1H
X-Robots-Tag:noindex
X-PUBLISHED-TTL:PT1H
BEGIN:VTIMEZONE
TZID:Asia/Manila
BEGIN:STANDARD
TZOFFSETFROM:+0800
TZOFFSETTO:+0800
TZNAME:PST
DTSTART:20220101T000000
END:STANDARD
END:VTIMEZONE
BEGIN:VEVENT
DTSTART;VALUE=DATE:20230130
DTEND;VALUE=DATE:20230204
DTSTAMP:20260426T072939
CREATED:20220701T022656Z
LAST-MODIFIED:20220701T022656Z
UID:10000148-1675036800-1675468799@lics.edu.ph
SUMMARY:SHS Semestral Break
DESCRIPTION:
URL:https://lics.edu.ph/event/shs-semestral-break/
CATEGORIES:Senior High
END:VEVENT
BEGIN:VEVENT
DTSTART;TZID=Asia/Manila:20230203T073000
DTEND;TZID=Asia/Manila:20230203T123000
DTSTAMP:20260426T072939
CREATED:20230117T084755Z
LAST-MODIFIED:20230125T062220Z
UID:10000160-1675409400-1675427400@lics.edu.ph
SUMMARY:NAT (Grade 12) - Day 2
DESCRIPTION:
URL:https://lics.edu.ph/event/nat-grade-12-day-2/
CATEGORIES:Senior High
END:VEVENT
END:VCALENDAR