BEGIN:VCALENDAR
VERSION:2.0
PRODID:-//La Immaculada Concepcion School - ECPv6.15.12.1//NONSGML v1.0//EN
CALSCALE:GREGORIAN
METHOD:PUBLISH
X-WR-CALNAME:La Immaculada Concepcion School
X-ORIGINAL-URL:https://lics.edu.ph
X-WR-CALDESC:Events for La Immaculada Concepcion School
REFRESH-INTERVAL;VALUE=DURATION:PT1H
X-Robots-Tag:noindex
X-PUBLISHED-TTL:PT1H
BEGIN:VTIMEZONE
TZID:Asia/Manila
BEGIN:STANDARD
TZOFFSETFROM:+0800
TZOFFSETTO:+0800
TZNAME:PST
DTSTART:20220101T000000
END:STANDARD
END:VTIMEZONE
BEGIN:VEVENT
DTSTART;VALUE=DATE:20230403
DTEND;VALUE=DATE:20230410
DTSTAMP:20260426T052304
CREATED:20230329T030216Z
LAST-MODIFIED:20230329T030905Z
UID:10000161-1680480000-1681084799@lics.edu.ph
SUMMARY:Holy Week 2023
DESCRIPTION:Offices will be open Monday (April 3) and Tuesday (April 4). 8:00 am to 3:00 pm.
URL:https://lics.edu.ph/event/holy-week/
CATEGORIES:Holiday,School-wide
END:VEVENT
END:VCALENDAR