BEGIN:VCALENDAR
VERSION:2.0
PRODID:-//La Immaculada Concepcion School - ECPv6.15.12.1//NONSGML v1.0//EN
CALSCALE:GREGORIAN
METHOD:PUBLISH
X-ORIGINAL-URL:https://lics.edu.ph
X-WR-CALDESC:Events for La Immaculada Concepcion School
REFRESH-INTERVAL;VALUE=DURATION:PT1H
X-Robots-Tag:noindex
X-PUBLISHED-TTL:PT1H
BEGIN:VTIMEZONE
TZID:Asia/Manila
BEGIN:STANDARD
TZOFFSETFROM:+0800
TZOFFSETTO:+0800
TZNAME:PST
DTSTART:20220101T000000
END:STANDARD
END:VTIMEZONE
BEGIN:VEVENT
DTSTART;VALUE=DATE:20230410
DTEND;VALUE=DATE:20230411
DTSTAMP:20260426T052803
CREATED:20230329T030330Z
LAST-MODIFIED:20230329T030330Z
UID:10000162-1681084800-1681171199@lics.edu.ph
SUMMARY:Araw ng Kagitingan (moved)
DESCRIPTION:
URL:https://lics.edu.ph/event/araw-ng-kagitingan-moved/
CATEGORIES:Holiday,School-wide
END:VEVENT
END:VCALENDAR