BEGIN:VCALENDAR
VERSION:2.0
PRODID:-//La Immaculada Concepcion School - ECPv6.15.12.1//NONSGML v1.0//EN
CALSCALE:GREGORIAN
METHOD:PUBLISH
X-ORIGINAL-URL:https://lics.edu.ph
X-WR-CALDESC:Events for La Immaculada Concepcion School
REFRESH-INTERVAL;VALUE=DURATION:PT1H
X-Robots-Tag:noindex
X-PUBLISHED-TTL:PT1H
BEGIN:VTIMEZONE
TZID:Asia/Manila
BEGIN:STANDARD
TZOFFSETFROM:+0800
TZOFFSETTO:+0800
TZNAME:PST
DTSTART:20220101T000000
END:STANDARD
END:VTIMEZONE
BEGIN:VEVENT
DTSTART;VALUE=DATE:20230417
DTEND;VALUE=DATE:20230422
DTSTAMP:20260426T051731
CREATED:20230329T031015Z
LAST-MODIFIED:20230329T031015Z
UID:10000167-1681689600-1682121599@lics.edu.ph
SUMMARY:Grade 10 Moving Up Photoshoot
DESCRIPTION:
URL:https://lics.edu.ph/event/grade-10-moving-up-photoshoot/
CATEGORIES:Junior High
END:VEVENT
END:VCALENDAR