BEGIN:VCALENDAR
VERSION:2.0
PRODID:-//La Immaculada Concepcion School - ECPv6.15.12.1//NONSGML v1.0//EN
CALSCALE:GREGORIAN
METHOD:PUBLISH
X-ORIGINAL-URL:https://lics.edu.ph
X-WR-CALDESC:Events for La Immaculada Concepcion School
REFRESH-INTERVAL;VALUE=DURATION:PT1H
X-Robots-Tag:noindex
X-PUBLISHED-TTL:PT1H
BEGIN:VTIMEZONE
TZID:Asia/Manila
BEGIN:STANDARD
TZOFFSETFROM:+0800
TZOFFSETTO:+0800
TZNAME:PST
DTSTART:20220101T000000
END:STANDARD
END:VTIMEZONE
BEGIN:VEVENT
DTSTART;VALUE=DATE:20230505
DTEND;VALUE=DATE:20230506
DTSTAMP:20260426T040710
CREATED:20230329T031711Z
LAST-MODIFIED:20230329T031711Z
UID:10000172-1683244800-1683331199@lics.edu.ph
SUMMARY:Dance Fever
DESCRIPTION:Grade 9 – Senior High
URL:https://lics.edu.ph/event/dance-fever/
CATEGORIES:High School
END:VEVENT
END:VCALENDAR