BEGIN:VCALENDAR
VERSION:2.0
PRODID:-//La Immaculada Concepcion School - ECPv6.15.12.1//NONSGML v1.0//EN
CALSCALE:GREGORIAN
METHOD:PUBLISH
X-ORIGINAL-URL:https://lics.edu.ph
X-WR-CALDESC:Events for La Immaculada Concepcion School
REFRESH-INTERVAL;VALUE=DURATION:PT1H
X-Robots-Tag:noindex
X-PUBLISHED-TTL:PT1H
BEGIN:VTIMEZONE
TZID:Asia/Manila
BEGIN:STANDARD
TZOFFSETFROM:+0800
TZOFFSETTO:+0800
TZNAME:PST
DTSTART:20220101T000000
END:STANDARD
END:VTIMEZONE
BEGIN:VEVENT
DTSTART;VALUE=DATE:20230510
DTEND;VALUE=DATE:20230513
DTSTAMP:20260426T040807
CREATED:20230329T031919Z
LAST-MODIFIED:20230329T031919Z
UID:10000173-1683676800-1683935999@lics.edu.ph
SUMMARY:Final Assessment (PS\, G3\, G6\, G10 & G12)
DESCRIPTION:Pre-School \nGrade 3 and Grade 6 \nGrade 10 and Grade 12
URL:https://lics.edu.ph/event/final-assessment-ps-g3-g6-g10-g12/
CATEGORIES:Grade School,High School
END:VEVENT
END:VCALENDAR