BEGIN:VCALENDAR
VERSION:2.0
PRODID:-//La Immaculada Concepcion School - ECPv6.15.12.1//NONSGML v1.0//EN
CALSCALE:GREGORIAN
METHOD:PUBLISH
X-ORIGINAL-URL:https://lics.edu.ph
X-WR-CALDESC:Events for La Immaculada Concepcion School
REFRESH-INTERVAL;VALUE=DURATION:PT1H
X-Robots-Tag:noindex
X-PUBLISHED-TTL:PT1H
BEGIN:VTIMEZONE
TZID:Asia/Manila
BEGIN:STANDARD
TZOFFSETFROM:+0800
TZOFFSETTO:+0800
TZNAME:PST
DTSTART:20220101T000000
END:STANDARD
END:VTIMEZONE
BEGIN:VEVENT
DTSTART;VALUE=DATE:20230517
DTEND;VALUE=DATE:20230520
DTSTAMP:20260426T075128
CREATED:20230329T032103Z
LAST-MODIFIED:20230329T032103Z
UID:10000174-1684281600-1684540799@lics.edu.ph
SUMMARY:Final Assessment
DESCRIPTION:Grades 1 & 2 \nGrades 4 & 5 \nGrades 7\, 8\, & 9 \nGrade 11
URL:https://lics.edu.ph/event/final-assessment/
CATEGORIES:Grade School,High School
END:VEVENT
BEGIN:VEVENT
DTSTART;VALUE=DATE:20230602
DTEND;VALUE=DATE:20230603
DTSTAMP:20260426T075128
CREATED:20230329T032252Z
LAST-MODIFIED:20230329T032252Z
UID:10000176-1685664000-1685750399@lics.edu.ph
SUMMARY:Reading of Honors 2023
DESCRIPTION:
URL:https://lics.edu.ph/event/reading-of-honors-2023/
CATEGORIES:School-wide
END:VEVENT
BEGIN:VEVENT
DTSTART;VALUE=DATE:20230608
DTEND;VALUE=DATE:20230609
DTSTAMP:20260426T075128
CREATED:20230329T032223Z
LAST-MODIFIED:20230329T032223Z
UID:10000175-1686182400-1686268799@lics.edu.ph
SUMMARY:Thanksgiving Mass
DESCRIPTION:
URL:https://lics.edu.ph/event/thanksgiving-mass/
CATEGORIES:School-wide
END:VEVENT
BEGIN:VEVENT
DTSTART;VALUE=DATE:20230612
DTEND;VALUE=DATE:20230613
DTSTAMP:20260426T075128
CREATED:20230329T032326Z
LAST-MODIFIED:20230329T032326Z
UID:10000177-1686528000-1686614399@lics.edu.ph
SUMMARY:Independence Day
DESCRIPTION:
URL:https://lics.edu.ph/event/independence-day/
CATEGORIES:Holiday,School-wide
END:VEVENT
BEGIN:VEVENT
DTSTART;VALUE=DATE:20230614
DTEND;VALUE=DATE:20230615
DTSTAMP:20260426T075128
CREATED:20230329T032451Z
LAST-MODIFIED:20230329T032451Z
UID:10000178-1686700800-1686787199@lics.edu.ph
SUMMARY:Grade 3 Culminating Activity 2023
DESCRIPTION:
URL:https://lics.edu.ph/event/grade-3-culminating-activity-2023/
CATEGORIES:Primary
END:VEVENT
BEGIN:VEVENT
DTSTART;VALUE=DATE:20230614
DTEND;VALUE=DATE:20230615
DTSTAMP:20260426T075128
CREATED:20230329T032538Z
LAST-MODIFIED:20230329T032538Z
UID:10000179-1686700800-1686787199@lics.edu.ph
SUMMARY:Pre-School Moving Up 2023
DESCRIPTION:
URL:https://lics.edu.ph/event/pre-school-moving-up-2023/
CATEGORIES:Pre-School
END:VEVENT
BEGIN:VEVENT
DTSTART;VALUE=DATE:20230615
DTEND;VALUE=DATE:20230616
DTSTAMP:20260426T075128
CREATED:20230329T032737Z
LAST-MODIFIED:20230329T032737Z
UID:10000181-1686787200-1686873599@lics.edu.ph
SUMMARY:Grade 6 Graduation 2023
DESCRIPTION:
URL:https://lics.edu.ph/event/grade-6-graduation-2023/
CATEGORIES:Middle
END:VEVENT
BEGIN:VEVENT
DTSTART;VALUE=DATE:20230616
DTEND;VALUE=DATE:20230617
DTSTAMP:20260426T075128
CREATED:20230329T032636Z
LAST-MODIFIED:20230329T032659Z
UID:10000180-1686873600-1686959999@lics.edu.ph
SUMMARY:Grade 10 Moving Up 2023
DESCRIPTION:
URL:https://lics.edu.ph/event/grade-10-moving-up-2023/
CATEGORIES:Junior High
END:VEVENT
BEGIN:VEVENT
DTSTART;VALUE=DATE:20230617
DTEND;VALUE=DATE:20230618
DTSTAMP:20260426T075128
CREATED:20230329T032853Z
LAST-MODIFIED:20230329T032853Z
UID:10000182-1686960000-1687046399@lics.edu.ph
SUMMARY:Grade 12 Graduation 2023
DESCRIPTION:
URL:https://lics.edu.ph/event/grade-12-graduation-2023/
CATEGORIES:Senior High
END:VEVENT
BEGIN:VEVENT
DTSTART;VALUE=DATE:20230619
DTEND;VALUE=DATE:20230629
DTSTAMP:20260426T075128
CREATED:20230329T033144Z
LAST-MODIFIED:20230329T033144Z
UID:10000183-1687132800-1687996799@lics.edu.ph
SUMMARY:Issuance of Report Cards and Enrollment Period
DESCRIPTION:Check your grade level schedules for more details.
URL:https://lics.edu.ph/event/issuance-of-report-cards-and-enrollment-period/
CATEGORIES:School-wide
END:VEVENT
END:VCALENDAR